BEGIN:VCALENDAR
VERSION:2.0
PRODID:-//A*Desk - ECPv6.8.1//NONSGML v1.0//EN
CALSCALE:GREGORIAN
METHOD:PUBLISH
X-WR-CALNAME:A*Desk
X-ORIGINAL-URL:https://a-desk.org/en/
X-WR-CALDESC:Events for A*Desk
REFRESH-INTERVAL;VALUE=DURATION:PT1H
X-Robots-Tag:noindex
X-PUBLISHED-TTL:PT1H
BEGIN:VTIMEZONE
TZID:Europe/Madrid
BEGIN:DAYLIGHT
TZOFFSETFROM:+0100
TZOFFSETTO:+0200
TZNAME:CEST
DTSTART:20260329T010000
END:DAYLIGHT
BEGIN:STANDARD
TZOFFSETFROM:+0200
TZOFFSETTO:+0100
TZNAME:CET
DTSTART:20261025T010000
END:STANDARD
END:VTIMEZONE
BEGIN:VEVENT
DTSTART;TZID=Europe/Madrid:20260205T173000
DTEND;TZID=Europe/Madrid:20260205T190000
DTSTAMP:20260422T055832
CREATED:20260203T181736Z
LAST-MODIFIED:20260203T181736Z
UID:74142-1770312600-1770318000@a-desk.org
SUMMARY:"Entre el rosa i el blau"
DESCRIPTION:
URL:https://a-desk.org/en/agenda/entre-el-rosa-i-el-blau/
LOCATION:Centre d’Art la Panera\, Plaça Panera\, 2\, 25002 Lleida mapa\, Lleida\, Lleida\, 25002\, Spain
CATEGORIES:Presentació de llibre
END:VEVENT
BEGIN:VEVENT
DTSTART;TZID=Europe/Madrid:20260205T180000
DTEND;TZID=Europe/Madrid:20260205T180000
DTSTAMP:20260422T055832
CREATED:20260130T172822Z
LAST-MODIFIED:20260204T083133Z
UID:73975-1770314400-1770314400@a-desk.org
SUMMARY:"Moviment continu" Isabel Servera
DESCRIPTION:
URL:https://a-desk.org/en/agenda/moviment-continu-isabel-servera/
LOCATION:Palau de la Música\, C/ Palau de la Música\, 4-6\, Barcelona\, Barcelona\, 08003\, España
CATEGORIES:Inauguració/Exposició
END:VEVENT
BEGIN:VEVENT
DTSTART;TZID=Europe/Madrid:20260205T180000
DTEND;TZID=Europe/Madrid:20260205T180000
DTSTAMP:20260422T055832
CREATED:20260203T173546Z
LAST-MODIFIED:20260203T173546Z
UID:74106-1770314400-1770314400@a-desk.org
SUMMARY:"Ús de la imatge\, violència i salut mental" Fátima Masoud i Hache Mau
DESCRIPTION:
URL:https://a-desk.org/en/agenda/us-de-la-imatge-violencia-i-salut-mental-fatima-masoud-i-hache-mau/
LOCATION:Santa Mònica\, La Rambla\, 7\, 08002 Barcelona mapa\, Barcelona\, Barcelona\, 08002\, Spain
CATEGORIES:Conference
END:VEVENT
BEGIN:VEVENT
DTSTART;TZID=Europe/Madrid:20260205T183000
DTEND;TZID=Europe/Madrid:20260205T183000
DTSTAMP:20260422T055833
CREATED:20260201T174819Z
LAST-MODIFIED:20260201T174819Z
UID:74021-1770316200-1770316200@a-desk.org
SUMMARY:"Vigilant Eye" Abbas Ghazali
DESCRIPTION:
URL:https://a-desk.org/en/agenda/vigilant-eye-abbas-ghazali/
LOCATION:Bòlit. Centre d’Art Contemporani Girona\, Rambla de la Llibertat\, 1\, Girona\, Girona\, 17004\, España
CATEGORIES:Projecció
END:VEVENT
BEGIN:VEVENT
DTSTART;TZID=Europe/Madrid:20260205T183000
DTEND;TZID=Europe/Madrid:20260205T183000
DTSTAMP:20260422T055833
CREATED:20260203T174844Z
LAST-MODIFIED:20260203T174844Z
UID:74117-1770316200-1770316200@a-desk.org
SUMMARY:"Sòlid que es fon en l'aire" Toni Giró
DESCRIPTION:
URL:https://a-desk.org/en/agenda/solid-que-es-fon-en-laire-toni-giro-2/
LOCATION:Fundació Vila Casas. Espais Volart\, C/ Ausiàs Marc\, 22\, 08010 Barcelona mapa\, Barcelona\, Barcelona\, 08010\, Spain
CATEGORIES:Taula rodona
END:VEVENT
BEGIN:VEVENT
DTSTART;TZID=Europe/Madrid:20260205T183000
DTEND;TZID=Europe/Madrid:20260205T200000
DTSTAMP:20260422T055833
CREATED:20260201T175252Z
LAST-MODIFIED:20260201T175252Z
UID:74026-1770316200-1770321600@a-desk.org
SUMMARY:"Què recorda la terra" Cinto Torrents amb Isabel Banal
DESCRIPTION:
URL:https://a-desk.org/en/agenda/que-recorda-la-terra-cinto-torrents-amb-isabel-banal/
LOCATION:ACVic\, C/ Sant Francesc\, 1\, Vic\, Barcelona\, 8500\, España
CATEGORIES:Conversa
END:VEVENT
BEGIN:VEVENT
DTSTART;TZID=Europe/Madrid:20260205T190000
DTEND;TZID=Europe/Madrid:20260205T190000
DTSTAMP:20260422T055833
CREATED:20260124T153219Z
LAST-MODIFIED:20260124T153219Z
UID:73725-1770318000-1770318000@a-desk.org
SUMMARY:Projecció del film "La Vieille Quimboiseuse et le Majordome" de Julius-Amédée Laou. Presentació a càrrec d'Elvira Dyangani Ose | Visions de Panàfrica
DESCRIPTION:
URL:https://a-desk.org/en/agenda/projeccio-del-film-la-vieille-quimboiseuse-et-le-majordome-de-julius-amedee-laou-presentacio-a-carrec-delvira-dyangani-ose-visions-de-panafrica/
LOCATION:Zumzeig\, C/ Béjar\, 53\, 08014 Barcelona mapa\, Barcelona\, Barcelona\, 08014\, Spain
CATEGORIES:Cinema
END:VEVENT
BEGIN:VEVENT
DTSTART;TZID=Europe/Madrid:20260205T190000
DTEND;TZID=Europe/Madrid:20260205T190000
DTSTAMP:20260422T055833
CREATED:20260127T180617Z
LAST-MODIFIED:20260127T180617Z
UID:73866-1770318000-1770318000@a-desk.org
SUMMARY:"Arna" Huaqian Zhang
DESCRIPTION:
URL:https://a-desk.org/en/agenda/arna-huaqian-zhang/
LOCATION:Fundación Joan Miró\, Parc de Montjuïc\, s/n\, 08038 Barcelona mapa\, Barcelona\, Barcelona\, 08038\, Spain
CATEGORIES:Inauguració/Exposició
END:VEVENT
BEGIN:VEVENT
DTSTART;TZID=Europe/Madrid:20260205T190000
DTEND;TZID=Europe/Madrid:20260205T190000
DTSTAMP:20260422T055833
CREATED:20260130T173420Z
LAST-MODIFIED:20260130T173420Z
UID:73981-1770318000-1770318000@a-desk.org
SUMMARY:"Extra-Ordinari. Treball acadèmic precari als ensenyaments artístics"  Jeffrey Swartz
DESCRIPTION:
URL:https://a-desk.org/en/agenda/extra-ordinari-treball-academic-precari-als-ensenyaments-artistics-jeffrey-swartz/
LOCATION:La Virreina\, La Rambla\, 99\, 08002 Barcelona mapa\, Barcelona\, Barcelona\, 08002\, Spain
CATEGORIES:Presentació
END:VEVENT
BEGIN:VEVENT
DTSTART;TZID=Europe/Madrid:20260205T190000
DTEND;TZID=Europe/Madrid:20260205T190000
DTSTAMP:20260422T055833
CREATED:20260130T174746Z
LAST-MODIFIED:20260130T174746Z
UID:73991-1770318000-1770318000@a-desk.org
SUMMARY:"La Vieille Quimboiseuse et le Majordome" Julius-Amédée Laou
DESCRIPTION:
URL:https://a-desk.org/en/agenda/la-vieille-quimboiseuse-et-le-majordome-julius-amedee-laou/
LOCATION:Zumzeig\, C/ Béjar\, 53\, 08014 Barcelona mapa\, Barcelona\, Barcelona\, 08014\, Spain
CATEGORIES:Cinema
END:VEVENT
BEGIN:VEVENT
DTSTART;TZID=Europe/Madrid:20260205T190000
DTEND;TZID=Europe/Madrid:20260205T190000
DTSTAMP:20260422T055833
CREATED:20260203T172930Z
LAST-MODIFIED:20260203T172930Z
UID:74100-1770318000-1770318000@a-desk.org
SUMMARY:"L'escriptura en el relat artístic"
DESCRIPTION:
URL:https://a-desk.org/en/agenda/lescriptura-en-el-relat-artistic/
LOCATION:Mèdol\, C/ d'En Granada\, 11\, Tarragona\, Tarragona\, 43003\, España
CATEGORIES:Inauguració/Exposició
END:VEVENT
BEGIN:VEVENT
DTSTART;TZID=Europe/Madrid:20260205T190000
DTEND;TZID=Europe/Madrid:20260205T190000
DTSTAMP:20260422T055833
CREATED:20260203T182322Z
LAST-MODIFIED:20260203T182322Z
UID:74146-1770318000-1770318000@a-desk.org
SUMMARY:"Colored Relations: animacions psicodèliques i abstraccions pop"
DESCRIPTION:
URL:https://a-desk.org/en/agenda/colored-relations-animacions-psicodeliques-i-abstraccions-pop/
LOCATION:CCCB\, C/ Montalegre\, 5\, 08001 Barcelona mapa\, Barcelona\, Barcelona\, 08001\, Spain
CATEGORIES:Cinema
END:VEVENT
BEGIN:VEVENT
DTSTART;TZID=Europe/Madrid:20260205T190000
DTEND;TZID=Europe/Madrid:20260205T200000
DTSTAMP:20260422T055833
CREATED:20260201T175453Z
LAST-MODIFIED:20260201T175453Z
UID:74028-1770318000-1770321600@a-desk.org
SUMMARY:"Forats\, codis i puntes" Svantje Busshoff
DESCRIPTION:
URL:https://a-desk.org/en/agenda/forats-codis-i-puntes-svantje-busshoff/
LOCATION:Art Sant Cugat\, Carrer Villà 68 08173 Sant Cugat del Vallès
CATEGORIES:Inauguració/Exposició
END:VEVENT
BEGIN:VEVENT
DTSTART;TZID=Europe/Madrid:20260205T193000
DTEND;TZID=Europe/Madrid:20260205T193000
DTSTAMP:20260422T055833
CREATED:20260130T174928Z
LAST-MODIFIED:20260130T174928Z
UID:73993-1770319800-1770319800@a-desk.org
SUMMARY:"Em protegeixen les estrelles" Temple de Vesta
DESCRIPTION:
URL:https://a-desk.org/en/agenda/em-protegeixen-les-estrelles-temple-de-vesta/
LOCATION:La Casa Elizalde\, C/ València\, 302\, 08009 Barcelona mapa\, Barcelona\, Barcelona\, 08009\, Spain
CATEGORIES:Teatre
END:VEVENT
END:VCALENDAR