BEGIN:VCALENDAR
VERSION:2.0
PRODID:-//A*Desk - ECPv6.8.1//NONSGML v1.0//EN
CALSCALE:GREGORIAN
METHOD:PUBLISH
X-WR-CALNAME:A*Desk
X-ORIGINAL-URL:https://a-desk.org/en/
X-WR-CALDESC:Events for A*Desk
REFRESH-INTERVAL;VALUE=DURATION:PT1H
X-Robots-Tag:noindex
X-PUBLISHED-TTL:PT1H
BEGIN:VTIMEZONE
TZID:Europe/Madrid
BEGIN:DAYLIGHT
TZOFFSETFROM:+0100
TZOFFSETTO:+0200
TZNAME:CEST
DTSTART:20260329T010000
END:DAYLIGHT
BEGIN:STANDARD
TZOFFSETFROM:+0200
TZOFFSETTO:+0100
TZNAME:CET
DTSTART:20261025T010000
END:STANDARD
END:VTIMEZONE
BEGIN:VEVENT
DTSTART;VALUE=DATE:20260206
DTEND;VALUE=DATE:20260209
DTSTAMP:20260422T030526
CREATED:20260203T175513Z
LAST-MODIFIED:20260203T175513Z
UID:74119-1770336000-1770595199@a-desk.org
SUMMARY:"Llum Bcn 2026"
DESCRIPTION:
URL:https://a-desk.org/en/agenda/llum-bcn-2026/
LOCATION:Barcelona
CATEGORIES:Festival
END:VEVENT
BEGIN:VEVENT
DTSTART;TZID=Europe/Madrid:20260207T110000
DTEND;TZID=Europe/Madrid:20260207T110000
DTSTAMP:20260422T030526
CREATED:20260204T183539Z
LAST-MODIFIED:20260204T183539Z
UID:74191-1770462000-1770462000@a-desk.org
SUMMARY:"Paraules que es desfan" Taller de creació sonora amb Laura Llaneli
DESCRIPTION:
URL:https://a-desk.org/en/agenda/paraules-que-es-desfan-taller-de-creacio-sonora-amb-laura-llaneli/
LOCATION:CCCB\, C/ Montalegre\, 5\, 08001 Barcelona mapa\, Barcelona\, Barcelona\, 08001\, Spain
CATEGORIES:Workshop
END:VEVENT
BEGIN:VEVENT
DTSTART;TZID=Europe/Madrid:20260207T120000
DTEND;TZID=Europe/Madrid:20260207T120000
DTSTAMP:20260422T030526
CREATED:20260130T173310Z
LAST-MODIFIED:20260130T173310Z
UID:73979-1770465600-1770465600@a-desk.org
SUMMARY:"Com pedres als palmells\, brases i flama"
DESCRIPTION:
URL:https://a-desk.org/en/agenda/com-pedres-als-palmells-brases-i-flama/
LOCATION:Fabra i Coats\, C/ Sant Adrià\, 20\, 08030 Barcelona mapa\, Barcelona\, Barcelona\, 08030\, Spain
CATEGORIES:Inauguració/Exposició
END:VEVENT
BEGIN:VEVENT
DTSTART;TZID=Europe/Madrid:20260207T120000
DTEND;TZID=Europe/Madrid:20260207T120000
DTSTAMP:20260422T030526
CREATED:20260130T173625Z
LAST-MODIFIED:20260130T173625Z
UID:73985-1770465600-1770465600@a-desk.org
SUMMARY:"Paisatges de l'ànima" Antoni Forcada
DESCRIPTION:
URL:https://a-desk.org/en/agenda/paisatges-de-lanima-antoni-forcada/
LOCATION:Fundacio Vila Casas. Can Mario\, Plaça de Can Màrio\, 7\, Palafrugell\, Girona\, 17200\, España
CATEGORIES:Inauguració/Exposició
END:VEVENT
BEGIN:VEVENT
DTSTART;TZID=Europe/Madrid:20260207T120000
DTEND;TZID=Europe/Madrid:20260207T120000
DTSTAMP:20260422T030526
CREATED:20260130T175943Z
LAST-MODIFIED:20260130T175943Z
UID:74006-1770465600-1770465600@a-desk.org
SUMMARY:"Fluid esquerda pedra" Núria Nia
DESCRIPTION:
URL:https://a-desk.org/en/agenda/fluid-esquerda-pedra-nuria-nia/
LOCATION:Cultural Rizoma\, Plaça de l'Església\, 8\, Celrà\, Girona\, 17460\, España
CATEGORIES:Inauguració/Exposició
END:VEVENT
BEGIN:VEVENT
DTSTART;TZID=Europe/Madrid:20260207T120000
DTEND;TZID=Europe/Madrid:20260207T120000
DTSTAMP:20260422T030526
CREATED:20260203T175644Z
LAST-MODIFIED:20260203T175644Z
UID:74121-1770465600-1770465600@a-desk.org
SUMMARY:Visita guiada amb Silvia Gubern i Assumpta Bassas a l'exposició "Esplendor. Tornar a l'origen"
DESCRIPTION:
URL:https://a-desk.org/en/agenda/visita-guiada-amb-silvia-gubern-i-assumpta-bassas-a-lexposicio-esplendor-tornar-a-lorigen/
LOCATION:Fundació Vila Casas. Can Framis\, C/ Roc Boronat\, 116\, 126\, 08018 Barcelona mapa\, Barcelona\, Barcelona\, 08018\, Spain
CATEGORIES:Guided tour
END:VEVENT
BEGIN:VEVENT
DTSTART;TZID=Europe/Madrid:20260207T120000
DTEND;TZID=Europe/Madrid:20260207T120000
DTSTAMP:20260422T030526
CREATED:20260203T180316Z
LAST-MODIFIED:20260203T180316Z
UID:74127-1770465600-1770465600@a-desk.org
SUMMARY:"Cases sense porta | L’aperitiu amb… nyamnyam i Joana Hurtado + visita comentada"
DESCRIPTION:
URL:https://a-desk.org/en/agenda/cases-sense-porta-laperitiu-amb-nyamnyam-i-joana-hurtado-visita-comentada/
LOCATION:MAC Mataró\, Muralla de la Presó 2\, Mataró\, Barcelona\, 08302\, España
CATEGORIES:Col·loqui,Guided tour
END:VEVENT
BEGIN:VEVENT
DTSTART;TZID=Europe/Madrid:20260207T120000
DTEND;TZID=Europe/Madrid:20260207T140000
DTSTAMP:20260422T030526
CREATED:20260203T180919Z
LAST-MODIFIED:20260203T180919Z
UID:74135-1770465600-1770472800@a-desk.org
SUMMARY:Vernissatge: "Bitxos Rars - bestiari somiat" Lena Galé
DESCRIPTION:
URL:https://a-desk.org/en/agenda/vernissatge-bitxos-rars-bestiari-somiat-lena-gale/
LOCATION:Sala Fènix\, Carrer de la Riereta\, 31\, Barcelona\, Barcelona\, 08001\, España
CATEGORIES:Vernissage
END:VEVENT
BEGIN:VEVENT
DTSTART;TZID=Europe/Madrid:20260207T173000
DTEND;TZID=Europe/Madrid:20260207T173000
DTSTAMP:20260422T030526
CREATED:20260124T153928Z
LAST-MODIFIED:20260124T153928Z
UID:73731-1770485400-1770485400@a-desk.org
SUMMARY:"Loop" Ramon Madaula\, Mònica Bofill\, Júlia Genís
DESCRIPTION:
URL:https://a-desk.org/en/agenda/loop-ramon-madaula-monica-bofill-julia-genis/
LOCATION:Espai Texas\, C/ de Bailèn\, 205\, Gràcia\, Barcelona\, Barcelona\, 08037\, España
CATEGORIES:Teatre
END:VEVENT
BEGIN:VEVENT
DTSTART;TZID=Europe/Madrid:20260207T190000
DTEND;TZID=Europe/Madrid:20260207T190000
DTSTAMP:20260422T030526
CREATED:20260124T152315Z
LAST-MODIFIED:20260124T152315Z
UID:73715-1770490800-1770490800@a-desk.org
SUMMARY:"Las callampas + Cien niños esperando un tren" Rafael C. Sánchez\, Ignacio Agüero
DESCRIPTION:
URL:https://a-desk.org/en/agenda/las-callampas-cien-ninos-esperando-un-tren-rafael-c-sanchez-ignacio-aguero/
LOCATION:Zumzeig\, C/ Béjar\, 53\, 08014 Barcelona mapa\, Barcelona\, Barcelona\, 08014\, Spain
CATEGORIES:Cinema,Festival
END:VEVENT
BEGIN:VEVENT
DTSTART;TZID=Europe/Madrid:20260207T190000
DTEND;TZID=Europe/Madrid:20260207T220000
DTSTAMP:20260422T030526
CREATED:20260201T174636Z
LAST-MODIFIED:20260201T174636Z
UID:74019-1770490800-1770501600@a-desk.org
SUMMARY:"Amoor A Amoor A" Sophia Al Maria
DESCRIPTION:
URL:https://a-desk.org/en/agenda/amoor-a-amoor-a-sophia-al-maria/
LOCATION:Cordova\, Carrer de la Riereta\, 29\, Ciutat Vella\, 08001 Barcelona\, Barcelona\, Barcelona
CATEGORIES:Inauguració/Exposició
END:VEVENT
END:VCALENDAR