BEGIN:VCALENDAR
VERSION:2.0
PRODID:-//A*Desk - ECPv6.8.1//NONSGML v1.0//EN
CALSCALE:GREGORIAN
METHOD:PUBLISH
X-WR-CALNAME:A*Desk
X-ORIGINAL-URL:https://a-desk.org/en/
X-WR-CALDESC:Events for A*Desk
REFRESH-INTERVAL;VALUE=DURATION:PT1H
X-Robots-Tag:noindex
X-PUBLISHED-TTL:PT1H
BEGIN:VTIMEZONE
TZID:Europe/Madrid
BEGIN:DAYLIGHT
TZOFFSETFROM:+0100
TZOFFSETTO:+0200
TZNAME:CEST
DTSTART:20260329T010000
END:DAYLIGHT
BEGIN:STANDARD
TZOFFSETFROM:+0200
TZOFFSETTO:+0100
TZNAME:CET
DTSTART:20261025T010000
END:STANDARD
END:VTIMEZONE
BEGIN:VEVENT
DTSTART;VALUE=DATE:20260206
DTEND;VALUE=DATE:20260209
DTSTAMP:20260422T012414
CREATED:20260203T175513Z
LAST-MODIFIED:20260203T175513Z
UID:74119-1770336000-1770595199@a-desk.org
SUMMARY:"Llum Bcn 2026"
DESCRIPTION:
URL:https://a-desk.org/en/agenda/llum-bcn-2026/
LOCATION:Barcelona
CATEGORIES:Festival
END:VEVENT
BEGIN:VEVENT
DTSTART;TZID=Europe/Madrid:20260208T110000
DTEND;TZID=Europe/Madrid:20260208T163000
DTSTAMP:20260422T012414
CREATED:20260124T153421Z
LAST-MODIFIED:20260124T153421Z
UID:73727-1770548400-1770568200@a-desk.org
SUMMARY:"Encara i malgrat tot | Jornada de converses i poesia"
DESCRIPTION:
URL:https://a-desk.org/en/agenda/encara-i-malgrat-tot-jornada-de-converses-i-poesia/
LOCATION:Fundación Joan Miró\, Parc de Montjuïc\, s/n\, 08038 Barcelona mapa\, Barcelona\, Barcelona\, 08038\, Spain
CATEGORIES:Jornada
END:VEVENT
BEGIN:VEVENT
DTSTART;TZID=Europe/Madrid:20260208T120000
DTEND;TZID=Europe/Madrid:20260208T120000
DTSTAMP:20260422T012414
CREATED:20260130T175446Z
LAST-MODIFIED:20260130T175446Z
UID:73998-1770552000-1770552000@a-desk.org
SUMMARY:"LA JARANA. Un passeig escènic"
DESCRIPTION:
URL:https://a-desk.org/en/agenda/la-jarana-un-passeig-escenic/
LOCATION:Auditori Enric Granados\, Pl. de Josep Prenafeta\, S/N\, 25004 Lleida
CATEGORIES:Espectacle
END:VEVENT
BEGIN:VEVENT
DTSTART;TZID=Europe/Madrid:20260208T120000
DTEND;TZID=Europe/Madrid:20260208T140000
DTSTAMP:20260422T012414
CREATED:20260130T173817Z
LAST-MODIFIED:20260130T173817Z
UID:73987-1770552000-1770559200@a-desk.org
SUMMARY:"Column press" Ludovica Carbotta
DESCRIPTION:
URL:https://a-desk.org/en/agenda/column-press-ludovica-carbotta/
LOCATION:Bombon Projects\, C/ de Trafalgar\, 53\, local\, Barcelona\, Barcelona\, 08010\, España
CATEGORIES:Inauguració/Exposició
END:VEVENT
BEGIN:VEVENT
DTSTART;TZID=Europe/Madrid:20260208T120000
DTEND;TZID=Europe/Madrid:20260208T140000
DTSTAMP:20260422T012414
CREATED:20260201T175857Z
LAST-MODIFIED:20260201T175857Z
UID:74032-1770552000-1770559200@a-desk.org
SUMMARY:"16:44" Anne-Lise Coste
DESCRIPTION:
URL:https://a-desk.org/en/agenda/1644-anne-lise-coste/
LOCATION:Prats Nogueres Blanchard\, Carrer Isaac Peral\, 7\, L'Hospitalet de Llobregat\, Barcelona\, 08902\, España
CATEGORIES:Inauguració/Exposició
END:VEVENT
BEGIN:VEVENT
DTSTART;TZID=Europe/Madrid:20260208T123000
DTEND;TZID=Europe/Madrid:20260208T140000
DTSTAMP:20260422T012414
CREATED:20260124T154624Z
LAST-MODIFIED:20260124T154624Z
UID:73740-1770553800-1770559200@a-desk.org
SUMMARY:"SEYTHA - LIMERENCIA: Concert Experience"
DESCRIPTION:
URL:https://a-desk.org/en/agenda/seytha-limerencia-concert-experience/
LOCATION:La Nau\, C. d'Àlaba\, 30\, Barcelona\, Barcelona\, 08005\, España
CATEGORIES:Concert
END:VEVENT
BEGIN:VEVENT
DTSTART;TZID=Europe/Madrid:20260208T183000
DTEND;TZID=Europe/Madrid:20260208T183000
DTSTAMP:20260422T012414
CREATED:20260204T183839Z
LAST-MODIFIED:20260204T183839Z
UID:74195-1770575400-1770575400@a-desk.org
SUMMARY:"Xcèntric 2026: Ritmes en èxtasi: quadern de notes de Marie Menken"
DESCRIPTION:
URL:https://a-desk.org/en/agenda/xcentric-2026-ritmes-en-extasi-quadern-de-notes-de-marie-menken/
LOCATION:CCCB\, C/ Montalegre\, 5\, 08001 Barcelona mapa\, Barcelona\, Barcelona\, 08001\, Spain
CATEGORIES:Cinema
END:VEVENT
END:VCALENDAR