BEGIN:VCALENDAR
VERSION:2.0
PRODID:-//A*Desk - ECPv6.8.1//NONSGML v1.0//EN
CALSCALE:GREGORIAN
METHOD:PUBLISH
X-ORIGINAL-URL:https://a-desk.org/en/
X-WR-CALDESC:Events for A*Desk
REFRESH-INTERVAL;VALUE=DURATION:PT1H
X-Robots-Tag:noindex
X-PUBLISHED-TTL:PT1H
BEGIN:VTIMEZONE
TZID:Europe/Madrid
BEGIN:DAYLIGHT
TZOFFSETFROM:+0100
TZOFFSETTO:+0200
TZNAME:CEST
DTSTART:20260329T010000
END:DAYLIGHT
BEGIN:STANDARD
TZOFFSETFROM:+0200
TZOFFSETTO:+0100
TZNAME:CET
DTSTART:20261025T010000
END:STANDARD
END:VTIMEZONE
BEGIN:VEVENT
DTSTART;TZID=Europe/Madrid:20260210T180000
DTEND;TZID=Europe/Madrid:20260210T180000
DTSTAMP:20260421T222619
CREATED:20260204T183424Z
LAST-MODIFIED:20260204T183424Z
UID:74189-1770746400-1770746400@a-desk.org
SUMMARY:"Objetos luminosos"  Alberto Gramegna
DESCRIPTION:
URL:https://a-desk.org/en/agenda/objetos-luminosos-alberto-gramegna/
LOCATION:Galeria H2O\, C/ Verdi\, 152\, 08012 Barcelona mapa\, Barcelona\, Barcelona\, 08012\, Spain
CATEGORIES:Inauguració/Exposició
END:VEVENT
BEGIN:VEVENT
DTSTART;TZID=Europe/Madrid:20260210T183000
DTEND;TZID=Europe/Madrid:20260210T203000
DTSTAMP:20260421T222619
CREATED:20260124T154940Z
LAST-MODIFIED:20260124T154940Z
UID:73744-1770748200-1770755400@a-desk.org
SUMMARY:"Taller teòric-pràctoc: Viure una vida feminista"
DESCRIPTION:
URL:https://a-desk.org/en/agenda/taller-teoric-practoc-viure-una-vida-feminista/
LOCATION:Barcelona
CATEGORIES:Curs
END:VEVENT
BEGIN:VEVENT
DTSTART;TZID=Europe/Madrid:20260210T190000
DTEND;TZID=Europe/Madrid:20260210T200000
DTSTAMP:20260421T222619
CREATED:20260201T180131Z
LAST-MODIFIED:20260201T180131Z
UID:74036-1770750000-1770753600@a-desk.org
SUMMARY:"Entre cineastes. Caravana de cinema de dones"
DESCRIPTION:
URL:https://a-desk.org/en/agenda/entre-cineastes-caravana-de-cinema-de-dones/
LOCATION:Santa Mònica\, La Rambla\, 7\, 08002 Barcelona mapa\, Barcelona\, Barcelona\, 08002\, Spain
CATEGORIES:Projecció
END:VEVENT
END:VCALENDAR