BEGIN:VCALENDAR
VERSION:2.0
PRODID:-//A*Desk - ECPv6.8.1//NONSGML v1.0//EN
CALSCALE:GREGORIAN
METHOD:PUBLISH
X-WR-CALNAME:A*Desk
X-ORIGINAL-URL:https://a-desk.org/en/
X-WR-CALDESC:Events for A*Desk
REFRESH-INTERVAL;VALUE=DURATION:PT1H
X-Robots-Tag:noindex
X-PUBLISHED-TTL:PT1H
BEGIN:VTIMEZONE
TZID:Europe/Madrid
BEGIN:DAYLIGHT
TZOFFSETFROM:+0100
TZOFFSETTO:+0200
TZNAME:CEST
DTSTART:20260329T010000
END:DAYLIGHT
BEGIN:STANDARD
TZOFFSETFROM:+0200
TZOFFSETTO:+0100
TZNAME:CET
DTSTART:20261025T010000
END:STANDARD
END:VTIMEZONE
BEGIN:VEVENT
DTSTART;TZID=Europe/Madrid:20260211T110000
DTEND;TZID=Europe/Madrid:20260211T110000
DTSTAMP:20260421T210018
CREATED:20260203T181147Z
LAST-MODIFIED:20260203T181147Z
UID:74138-1770807600-1770807600@a-desk.org
SUMMARY:"Perro que ladra no muerde" Arnau Blanch
DESCRIPTION:
URL:https://a-desk.org/en/agenda/perro-que-ladra-no-muerde-arnau-blanch/
LOCATION:Centre d’Art la Panera\, Plaça Panera\, 2\, 25002 Lleida mapa\, Lleida\, Lleida\, 25002\, Spain
CATEGORIES:Presentació
END:VEVENT
BEGIN:VEVENT
DTSTART;TZID=Europe/Madrid:20260211T180000
DTEND;TZID=Europe/Madrid:20260211T180000
DTSTAMP:20260421T210018
CREATED:20260204T184245Z
LAST-MODIFIED:20260204T184245Z
UID:74201-1770832800-1770832800@a-desk.org
SUMMARY:"La muntanya anàloga / Visita guiada amb Frederic Montornés"
DESCRIPTION:
URL:https://a-desk.org/en/agenda/la-muntanya-analoga-visita-guiada-amb-frederic-montornes-3/
LOCATION:La Virreina\, La Rambla\, 99\, 08002 Barcelona mapa\, Barcelona\, Barcelona\, 08002\, Spain
CATEGORIES:Guided tour
END:VEVENT
BEGIN:VEVENT
DTSTART;TZID=Europe/Madrid:20260211T183000
DTEND;TZID=Europe/Madrid:20260211T183000
DTSTAMP:20260421T210018
CREATED:20260204T183700Z
LAST-MODIFIED:20260204T183700Z
UID:74193-1770834600-1770834600@a-desk.org
SUMMARY:"Animac 2026 al CCCB"
DESCRIPTION:
URL:https://a-desk.org/en/agenda/animac-2026-al-cccb/
LOCATION:CCCB\, C/ Montalegre\, 5\, 08001 Barcelona mapa\, Barcelona\, Barcelona\, 08001\, Spain
CATEGORIES:Mostra
END:VEVENT
BEGIN:VEVENT
DTSTART;TZID=Europe/Madrid:20260211T183000
DTEND;TZID=Europe/Madrid:20260211T183000
DTSTAMP:20260421T210018
CREATED:20260204T184034Z
LAST-MODIFIED:20260204T184034Z
UID:74199-1770834600-1770834600@a-desk.org
SUMMARY:"Existeix una Europa judeocristiana?" Sophie Bessis
DESCRIPTION:
URL:https://a-desk.org/en/agenda/existeix-una-europa-judeocristiana-sophie-bessis/
LOCATION:CCCB\, C/ Montalegre\, 5\, 08001 Barcelona mapa\, Barcelona\, Barcelona\, 08001\, Spain
CATEGORIES:Debat
END:VEVENT
BEGIN:VEVENT
DTSTART;TZID=Europe/Madrid:20260211T190000
DTEND;TZID=Europe/Madrid:20260211T190000
DTSTAMP:20260421T210018
CREATED:20260210T181833Z
LAST-MODIFIED:20260210T181833Z
UID:74263-1770836400-1770836400@a-desk.org
SUMMARY:"La estrella azul" Javier Macipe
DESCRIPTION:
URL:https://a-desk.org/en/agenda/la-estrella-azul-javier-macipe/
LOCATION:CC La Sedeta\, C/ de Sicília\, 321\, Barcelona\, Barcelona\, 08025\, España
CATEGORIES:Cinema
END:VEVENT
BEGIN:VEVENT
DTSTART;TZID=Europe/Madrid:20260211T190000
DTEND;TZID=Europe/Madrid:20260211T200000
DTSTAMP:20260421T210018
CREATED:20260203T174117Z
LAST-MODIFIED:20260203T174117Z
UID:74115-1770836400-1770840000@a-desk.org
SUMMARY:"Uppereatew" LaFrancesssa
DESCRIPTION:
URL:https://a-desk.org/en/agenda/uppereatew-lafrancesssa/
LOCATION:Santa Mònica\, La Rambla\, 7\, 08002 Barcelona mapa\, Barcelona\, Barcelona\, 08002\, Spain
CATEGORIES:Performance
END:VEVENT
BEGIN:VEVENT
DTSTART;TZID=Europe/Madrid:20260211T190000
DTEND;TZID=Europe/Madrid:20260211T200000
DTSTAMP:20260421T210018
CREATED:20260210T182108Z
LAST-MODIFIED:20260210T182108Z
UID:74265-1770836400-1770840000@a-desk.org
SUMMARY:"La sorpresa" Roberto Jacoby
DESCRIPTION:
URL:https://a-desk.org/en/agenda/la-sorpresa-roberto-jacoby/
LOCATION:HAUS\, Carrer Ciutat de Granada 34-36 08005 Barcelona
CATEGORIES:Inauguració/Exposició
END:VEVENT
BEGIN:VEVENT
DTSTART;TZID=Europe/Madrid:20260211T190000
DTEND;TZID=Europe/Madrid:20260211T210000
DTSTAMP:20260421T210018
CREATED:20260203T180440Z
LAST-MODIFIED:20260203T180440Z
UID:74129-1770836400-1770843600@a-desk.org
SUMMARY:"Escolta col·lectiva #4 amb Arnau Horta"
DESCRIPTION:
URL:https://a-desk.org/en/agenda/escolta-col%c2%b7lectiva-4-amb-arnau-horta/
LOCATION:La Escocesa\, C/ Pere IV\, 345\, 08020 Barcelona mapa\, Barcelona\, Barcelona\, 08020\, Spain
CATEGORIES:Experiència col·lectiva
END:VEVENT
BEGIN:VEVENT
DTSTART;TZID=Europe/Madrid:20260211T203000
DTEND;TZID=Europe/Madrid:20260211T203000
DTSTAMP:20260421T210018
CREATED:20260203T175810Z
LAST-MODIFIED:20260203T175810Z
UID:74123-1770841800-1770841800@a-desk.org
SUMMARY:"Els carnissers" Produccions de ferro
DESCRIPTION:
URL:https://a-desk.org/en/agenda/els-carnissers-produccions-de-ferro/
LOCATION:Teatre Tantarantana\, arrer de les Flors\, 22\, Ciutat Vella\, 08001 Barcelona
CATEGORIES:Teatre
END:VEVENT
END:VCALENDAR