BEGIN:VCALENDAR
VERSION:2.0
PRODID:-//A*Desk - ECPv6.8.1//NONSGML v1.0//EN
CALSCALE:GREGORIAN
METHOD:PUBLISH
X-WR-CALNAME:A*Desk
X-ORIGINAL-URL:https://a-desk.org/en/
X-WR-CALDESC:Events for A*Desk
REFRESH-INTERVAL;VALUE=DURATION:PT1H
X-Robots-Tag:noindex
X-PUBLISHED-TTL:PT1H
BEGIN:VTIMEZONE
TZID:Europe/Madrid
BEGIN:DAYLIGHT
TZOFFSETFROM:+0100
TZOFFSETTO:+0200
TZNAME:CEST
DTSTART:20260329T010000
END:DAYLIGHT
BEGIN:STANDARD
TZOFFSETFROM:+0200
TZOFFSETTO:+0100
TZNAME:CET
DTSTART:20261025T010000
END:STANDARD
END:VTIMEZONE
BEGIN:VEVENT
DTSTART;VALUE=DATE:20260212
DTEND;VALUE=DATE:20260313
DTSTAMP:20260421T193224
CREATED:20260221T125952Z
LAST-MODIFIED:20260221T125952Z
UID:74626-1770854400-1773359999@a-desk.org
SUMMARY:"Convocatòria: Les Mòniques 2026 - 2027"
DESCRIPTION:
URL:https://a-desk.org/en/agenda/convocatoria-les-moniques-2026-2027/
LOCATION:Barcelona
CATEGORIES:Convocatòria
END:VEVENT
BEGIN:VEVENT
DTSTART;TZID=Europe/Madrid:20260212T160000
DTEND;TZID=Europe/Madrid:20260212T160000
DTSTAMP:20260421T193224
CREATED:20260210T185909Z
LAST-MODIFIED:20260210T185909Z
UID:74309-1770912000-1770912000@a-desk.org
SUMMARY:"El rastre del llop"
DESCRIPTION:
URL:https://a-desk.org/en/agenda/el-rastre-del-llop/
LOCATION:Espai Texas\, C/ de Bailèn\, 205\, Gràcia\, Barcelona\, Barcelona\, 08037\, España
CATEGORIES:Cinema
END:VEVENT
BEGIN:VEVENT
DTSTART;TZID=Europe/Madrid:20260212T173000
DTEND;TZID=Europe/Madrid:20260212T173000
DTSTAMP:20260421T193224
CREATED:20260210T190709Z
LAST-MODIFIED:20260210T190709Z
UID:74319-1770917400-1770917400@a-desk.org
SUMMARY:"Cloenda: Afectivitat fluvial"
DESCRIPTION:
URL:https://a-desk.org/en/agenda/cloenda-afectivitat-fluvial/
LOCATION:Centre d’Art la Panera\, Plaça Panera\, 2\, 25002 Lleida mapa\, Lleida\, Lleida\, 25002\, Spain
CATEGORIES:Jornada
END:VEVENT
BEGIN:VEVENT
DTSTART;TZID=Europe/Madrid:20260212T183000
DTEND;TZID=Europe/Madrid:20260212T210000
DTSTAMP:20260421T193224
CREATED:20260210T183437Z
LAST-MODIFIED:20260210T183437Z
UID:74286-1770921000-1770930000@a-desk.org
SUMMARY:"Grup de Re-lectura"
DESCRIPTION:
URL:https://a-desk.org/en/agenda/grup-de-re-lectura/
LOCATION:Fabra i Coats\, C/ Sant Adrià\, 20\, 08030 Barcelona mapa\, Barcelona\, Barcelona\, 08030\, Spain
CATEGORIES:Activitat
END:VEVENT
BEGIN:VEVENT
DTSTART;TZID=Europe/Madrid:20260212T190000
DTEND;TZID=Europe/Madrid:20260212T190000
DTSTAMP:20260421T193224
CREATED:20260203T180652Z
LAST-MODIFIED:20260203T180652Z
UID:74133-1770922800-1770922800@a-desk.org
SUMMARY:"Antoni Tàpies. El moviment perpetu del mur"
DESCRIPTION:
URL:https://a-desk.org/en/agenda/antoni-tapies-el-moviment-perpetu-del-mur/
LOCATION:Museu Tàpies\, C/ Aragó\, 255\, 08007 Barcelona mapa\, Barcelona\, Barcelona\, 08007
CATEGORIES:Inauguració/Exposició
END:VEVENT
BEGIN:VEVENT
DTSTART;TZID=Europe/Madrid:20260212T190000
DTEND;TZID=Europe/Madrid:20260212T190000
DTSTAMP:20260421T193224
CREATED:20260210T183821Z
LAST-MODIFIED:20260210T183821Z
UID:74292-1770922800-1770922800@a-desk.org
SUMMARY:"El nostre desig no té nom\, nosaltres tampoc" Núria Gómez Gabriel i Antonio Gómez Villar
DESCRIPTION:
URL:https://a-desk.org/en/agenda/el-nostre-desig-no-te-nom-nosaltres-tampoc-nuria-gomez-gabriel-i-antonio-gomez-villar/
LOCATION:La Virreina\, La Rambla\, 99\, 08002 Barcelona mapa\, Barcelona\, Barcelona\, 08002\, Spain
CATEGORIES:Conference
END:VEVENT
BEGIN:VEVENT
DTSTART;TZID=Europe/Madrid:20260212T190000
DTEND;TZID=Europe/Madrid:20260212T190000
DTSTAMP:20260421T193224
CREATED:20260210T190542Z
LAST-MODIFIED:20260210T190542Z
UID:74317-1770922800-1770922800@a-desk.org
SUMMARY:"Acció de gràcies per una casa" Stefanie Kremser
DESCRIPTION:
URL:https://a-desk.org/en/agenda/accio-de-gracies-per-una-casa-stefanie-kremser/
LOCATION:Llibreria Finestres\, C/ Diputació\, 249\, 08007 Barcelona mapa\, Barcelona\, Barcelona\, 08007\, Spain
CATEGORIES:Presentació de llibre
END:VEVENT
BEGIN:VEVENT
DTSTART;TZID=Europe/Madrid:20260212T190000
DTEND;TZID=Europe/Madrid:20260212T220000
DTSTAMP:20260421T193224
CREATED:20260210T184210Z
LAST-MODIFIED:20260210T184210Z
UID:74294-1770922800-1770933600@a-desk.org
SUMMARY:"Lo oscuro quema" Elena Rocabert
DESCRIPTION:
URL:https://a-desk.org/en/agenda/lo-oscuro-quema-elena-rocabert/
LOCATION:BETA Contemporary\, Carrer Monistrol 21 08012\, Barcelona
CATEGORIES:Inauguració/Exposició
END:VEVENT
BEGIN:VEVENT
DTSTART;TZID=Europe/Madrid:20260212T193000
DTEND;TZID=Europe/Madrid:20260212T193000
DTSTAMP:20260421T193224
CREATED:20260203T173740Z
LAST-MODIFIED:20260210T152925Z
UID:74108-1770924600-1770924600@a-desk.org
SUMMARY:"La tercera torsió" Anna Moreno / "Presoners de l’amor. Fins al sol de la llibertat" Basel Abbas\, Ruanne Abou-Rahme
DESCRIPTION:
URL:https://a-desk.org/en/agenda/la-tercera-torsio-anna-moreno/
LOCATION:MACBA\, Plaça dels Àngels\, 1\, 08001 Barcelona mapa\, Barcelona\, Barcelona\, 08001\, Spain
CATEGORIES:Inauguració/Exposició
END:VEVENT
BEGIN:VEVENT
DTSTART;TZID=Europe/Madrid:20260212T200000
DTEND;TZID=Europe/Madrid:20260212T210000
DTSTAMP:20260421T193224
CREATED:20260130T172944Z
LAST-MODIFIED:20260130T172944Z
UID:73977-1770926400-1770930000@a-desk.org
SUMMARY:"Norma" Antonio Ruiz
DESCRIPTION:
URL:https://a-desk.org/en/agenda/norma-antonio-ruiz/
LOCATION:Mercat de les Flors\, C/ Lleida\, 59\, 08004 Barcelona mapa\, Barcelona\, Barcelona\, 08004\, Spain
CATEGORIES:Espectacle
END:VEVENT
END:VCALENDAR